BEGIN:VCALENDAR
VERSION:2.0
PRODID:-//Master Gardeners Association of Alberta - ECPv6.15.11//NONSGML v1.0//EN
CALSCALE:GREGORIAN
METHOD:PUBLISH
X-ORIGINAL-URL:https://mgaab.org
X-WR-CALDESC:Events for Master Gardeners Association of Alberta
REFRESH-INTERVAL;VALUE=DURATION:PT1H
X-Robots-Tag:noindex
X-PUBLISHED-TTL:PT1H
BEGIN:VTIMEZONE
TZID:UTC
BEGIN:STANDARD
TZOFFSETFROM:+0000
TZOFFSETTO:+0000
TZNAME:UTC
DTSTART:20200101T000000
END:STANDARD
END:VTIMEZONE
BEGIN:VEVENT
DTSTART;TZID=UTC:20210422T190000
DTEND;TZID=UTC:20210422T210000
DTSTAMP:20260423T043314
CREATED:20210326T192711Z
LAST-MODIFIED:20210329T035647Z
UID:258-1619118000-1619125200@mgaab.org
SUMMARY:MGAA Board Meeting
DESCRIPTION:
URL:https://mgaab.org/event/mgaa-board-meeting/
LOCATION:via Go To Meeting
CATEGORIES:Board Meeting
END:VEVENT
END:VCALENDAR