BEGIN:VCALENDAR
VERSION:2.0
PRODID:-//Master Gardeners Association of Alberta - ECPv6.15.11//NONSGML v1.0//EN
CALSCALE:GREGORIAN
METHOD:PUBLISH
X-WR-CALNAME:Master Gardeners Association of Alberta
X-ORIGINAL-URL:https://mgaab.org
X-WR-CALDESC:Events for Master Gardeners Association of Alberta
REFRESH-INTERVAL;VALUE=DURATION:PT1H
X-Robots-Tag:noindex
X-PUBLISHED-TTL:PT1H
BEGIN:VTIMEZONE
TZID:America/Edmonton
BEGIN:DAYLIGHT
TZOFFSETFROM:-0700
TZOFFSETTO:-0600
TZNAME:MDT
DTSTART:20210314T090000
END:DAYLIGHT
BEGIN:STANDARD
TZOFFSETFROM:-0600
TZOFFSETTO:-0700
TZNAME:MST
DTSTART:20211107T080000
END:STANDARD
BEGIN:DAYLIGHT
TZOFFSETFROM:-0700
TZOFFSETTO:-0600
TZNAME:MDT
DTSTART:20220313T090000
END:DAYLIGHT
BEGIN:STANDARD
TZOFFSETFROM:-0600
TZOFFSETTO:-0700
TZNAME:MST
DTSTART:20221106T080000
END:STANDARD
BEGIN:DAYLIGHT
TZOFFSETFROM:-0700
TZOFFSETTO:-0600
TZNAME:MDT
DTSTART:20230312T090000
END:DAYLIGHT
BEGIN:STANDARD
TZOFFSETFROM:-0600
TZOFFSETTO:-0700
TZNAME:MST
DTSTART:20231105T080000
END:STANDARD
END:VTIMEZONE
BEGIN:VEVENT
DTSTART;VALUE=DATE:20220205
DTEND;VALUE=DATE:20220207
DTSTAMP:20260424T094803
CREATED:20211204T212038Z
LAST-MODIFIED:20211227T201206Z
UID:7306-1644019200-1644191999@mgaab.org
SUMMARY:Think Spring
DESCRIPTION:Join the Calgary Horticultural Society for our Think Spring event!\nGet ready for spring and learn tips and tricks to implement in your garden. Our speakers will provide timely tips and offer answers to all your gardening questions. We think spring\, we think gardening all seasons. Our expert panel of speakers will be able to provide you the guidance you need. Learn and experience from the comfort of your home or office. \nThis event is presented by our friends at greengate Garden Centres. \nThe event will include: \n\nKeynote Speakers\nPlant\, Soil and Water Experts\nMarketplace\n50/50 Raffle\nPrizes\nand much more…\n\nTickets are $20 for members and $30 for non-members and can be purchased here or from the Ticket tab.
URL:https://mgaab.org/event/think-spring/
CATEGORIES:Calgary Horticultural Society
ATTACH;FMTTYPE=image/jpeg:https://mgaab.org/wp-content/uploads/2021/12/IMG_2391.jpg
END:VEVENT
END:VCALENDAR